BEGIN:VCALENDAR
VERSION:2.0
PRODID:-//wp-events-plugin.com//7.2.3.1//EN
TZID:Europe/Madrid
X-WR-TIMEZONE:Europe/Madrid
BEGIN:VEVENT
UID:164@hermandades-de-sevilla.org
DTSTART;VALUE=DATE:20241123
DTEND;VALUE=DATE:20241124
DTSTAMP:20241025T155456Z
URL:https://www.hermandades-de-sevilla.org/events/xxv-simposio-de-hermanda
 des-de-sevilla-y-de-su-provincia/
SUMMARY:XXV SIMPOSIO DE HERMANDADES DE SEVILLA Y DE SU PROVINCIA
DESCRIPTION:XXV SIMPOSIO DE HERMANDADES DE SEVILLA Y DE SU PROVINCIA.\nSáb
 ado\, 23 de noviembre⋅10:00\n\nTendrá lugar en la Capilla de Santa Mar
 ía de Jesús (sede del Consejo General de Hermandades y Cofradías de la 
 ciudad de Sevilla\, acceso por c/ San Gregorio 26) el XXV Simposio sobre H
 ermandades de Sevilla y su provincia\, contándose con la colaboración de
  la Consejería de Cultura y Deporte de la Junta de Andalucía\, la Fundac
 ión Cajasur y el Departamento de Historia del Arte de la Universidad de S
 evilla. Este encuentro académico\, dirigido por el vicepresidente de la i
 nstitución cofradiera y catedrático de Historia del Arte D. José Roda P
 eña\, reunirá un total de ocho ponencias\, que han sido presentadas por 
 otros tantos doctores\, graduados\, investigadores y profesores universita
 rios.\n\nEl Simposio se celebrará presencialmente y será también retran
 smitido en streaming por el canal YouTube del Consejo. Siendo el aforo lim
 itado\, la inscripción\, que asciende a 10 euros\, podrá formalizarse pr
 esencialmente (abono de la matrícula en efectivo) en la sede del Consejo 
 (c/ San Gregorio\, 26) en horario de tarde o de manera telemática (transf
 erencia bancaria) antes del 20 de noviembre\, cumplimentando en este últi
 mo caso el el siguiente formulario: https://www.hermandades-de-sevilla.org
 /wp-content/uploads/2024/10/formulario_inscripcion_simposio_hermandades202
 4.pdf\n\nDicha matrícula da derecho a recibir un certificado acreditativo
  de asistencia y la edición impresa de las actas.\n\nLos ponentes y la te
 mática abordada en esta vigésimo quinta edición del Simposio son los si
 guientes:\n\n 	D.ª María Teresa Ruiz Barrera: Trayectoria histórico-art
 ística de una Orden Tercera. De la Casa Grande a San Buenaventura (1616-1
 973).\n 	D. Darío Ojeda Cordero y D. Alejandro Román López: Nuevas apor
 taciones sobre las figuras secundarias del antiguo misterio de la Hermanda
 d del Calvario de Sevilla.\n 	D. Antonio Joaquín Santos Márquez: El ajua
 r de plata y oro de la Virgen de Valme de Dos Hermanas.\n 	D. Francisco Ma
 nuel Delgado Aboza: Unos años complicados: la Hermandad de la Cena de Sev
 illa a comienzos del siglo XX.\n 	D.ª Amparo Rodríguez Babío: Un “Lib
 ro Ynventario” de la Hermandad de las Ánimas Benditas de Santa Ana (Tri
 ana).\n 	D. Álvaro Cabezas García: Evolución de las representaciones pi
 ctóricas de la Divina Pastora en las hermandades de Sevilla durante la pr
 imera mitad del siglo XVIII.\n 	D. Pedro Manuel Martínez Lara: Persuasió
 n y símbolo. La cruz de carey y plata del Nazareno de La O y la formulaci
 ón de la imagen devocional en el Barroco sevillano.\n 	D. José Roda Peñ
 a: Juan de Mesa y el Cristo de la Buena Muerte de Sevilla en el centenario
  de la fundación de su cofradía universitaria (1924-2024).\n\nPuede cons
 ultar el Programa pulsando en el siguiente enlace: https://www.hermandades
 -de-sevilla.org/wp-content/uploads/2024/06/Programa_XXV_Simposio.pdf\n\n&n
 bsp\;
ATTACH;FMTTYPE=image/jpeg:https://www.hermandades-de-sevilla.org/wp-conten
 t/uploads/2024/06/XXV-Simposio-hermandades-2024.jpg
CATEGORIES:Consejo,Formacion
END:VEVENT
END:VCALENDAR