BEGIN:VCALENDAR
VERSION:2.0
PRODID:-//wp-events-plugin.com//7.2.3.1//EN
TZID:Europe/Madrid
X-WR-TIMEZONE:Europe/Madrid
BEGIN:VEVENT
UID:335@hermandades-de-sevilla.org
DTSTART;VALUE=DATE:20260520
DTEND;VALUE=DATE:20260521
DTSTAMP:20260424T101403Z
URL:https://www.hermandades-de-sevilla.org/events/salida-de-hermandades-de
 l-rocio-2026/
SUMMARY:SALIDA DE HERMANDADES DEL ROCÍO
DESCRIPTION:SALIDA DE HERMANDADES DEL ROCÍO\nMiércoles 20 de mayo\n- Herm
 andad del Rocío de la Macarena\n- Hermandad del Rocío de Sevilla (Salvad
 or)\n- Hermandad del Rocío de Triana\n- Hermandad del Rocío del Cerro de
 l Águila
ATTACH;FMTTYPE=image/jpeg:https://www.hermandades-de-sevilla.org/wp-conten
 t/uploads/2026/04/cartel_glorias2026.jpg
CATEGORIES:Consejo,Hermandades de Gloria,Procesiones Hermandades Gloria
END:VEVENT
END:VCALENDAR