BEGIN:VCALENDAR
VERSION:2.0
PRODID:-//wp-events-plugin.com//7.2.3.1//EN
TZID:Europe/Madrid
X-WR-TIMEZONE:Europe/Madrid
BEGIN:VEVENT
UID:336@hermandades-de-sevilla.org
DTSTART;VALUE=DATE:20260521
DTEND;VALUE=DATE:20260522
DTSTAMP:20260424T101601Z
URL:https://www.hermandades-de-sevilla.org/events/salida-de-hermandades-de
 l-rocio-2026-2/
SUMMARY:SALIDA DE HERMANDADES DEL ROCÍO
DESCRIPTION:SALIDA DE HERMANDADES DEL ROCÍO\nJueves 21 de mayo\n- Hermanda
 d del Rocío de Sevilla Sur
ATTACH;FMTTYPE=image/jpeg:https://www.hermandades-de-sevilla.org/wp-conten
 t/uploads/2026/04/cartel_glorias2026.jpg
CATEGORIES:Consejo,Hermandades de Gloria,Procesiones Hermandades Gloria
END:VEVENT
END:VCALENDAR