BEGIN:VCALENDAR
VERSION:2.0
PRODID:-//wp-events-plugin.com//7.2.3.1//EN
TZID:Europe/Madrid
X-WR-TIMEZONE:Europe/Madrid
BEGIN:VEVENT
UID:331@hermandades-de-sevilla.org
DTSTART;VALUE=DATE:20260505
DTEND;VALUE=DATE:20260506
DTSTAMP:20260424T100319Z
URL:https://www.hermandades-de-sevilla.org/events/presentacion-del-cartel-
 sevilla-eucaristica-2026/
SUMMARY:PRESENTACIÓN DEL CARTEL SEVILLA EUCARÍSTICA 2026
DESCRIPTION:PRESENTACIÓN DEL CARTEL DE LA SEVILLA EUCARÍSTICA 2026.\n\nCA
 PILLA SANTA MARÍA DE JESÚS. CONSEJO\nMartes\, 5 de mayo⋅20:00
ATTACH;FMTTYPE=image/jpeg:https://www.hermandades-de-sevilla.org/wp-conten
 t/uploads/2024/09/Capilla-Santa-Maria-de-Jesus.jpg
CATEGORIES:Carteles,Consejo,Hermandades Sacramentales
END:VEVENT
END:VCALENDAR