BEGIN:VCALENDAR
VERSION:2.0
PRODID:-//wp-events-plugin.com//7.2.3.1//EN
TZID:Europe/Madrid
X-WR-TIMEZONE:Europe/Madrid
BEGIN:VEVENT
UID:30@hermandades-de-sevilla.org
DTSTART;VALUE=DATE:20230602
DTEND;VALUE=DATE:20230603
DTSTAMP:20230516T154517Z
URL:https://www.hermandades-de-sevilla.org/events/presentacion-del-cartel-
 del-junio-eucaristico-2023/
SUMMARY:PRESENTACIÓN DEL CARTEL DEL JUNIO EUCARÍSTICO 2023
DESCRIPTION:PRESENTACIÓN DEL CARTEL DEL JUNIO EUCARÍSTICO 2023\nCAPILLA S
 ANTA MARÍA DE JESÚS\nViernes\, 2 de junio⋅20:30
ATTACH;FMTTYPE=image/jpeg:https://www.hermandades-de-sevilla.org/wp-conten
 t/uploads/2019/07/capillaconsejo.jpg
CATEGORIES:Presentaciones
END:VEVENT
END:VCALENDAR