BEGIN:VCALENDAR
VERSION:2.0
PRODID:-//wp-events-plugin.com//7.2.3.1//EN
TZID:Europe/Madrid
X-WR-TIMEZONE:Europe/Madrid
BEGIN:VEVENT
UID:127@hermandades-de-sevilla.org
DTSTART;VALUE=DATE:20240306
DTEND;VALUE=DATE:20240307
DTSTAMP:20240110T122646Z
URL:https://www.hermandades-de-sevilla.org/events/presentacion-del-boletin
 -de-las-cofradias-especial-de-semana-santa/
SUMMARY:PRESENTACIÓN DEL BOLETIN DE LAS COFRADÍAS ESPECIAL DE SEMANA SANT
 A
DESCRIPTION:PRESENTACIÓN DEL BOLETIN DE LAS COFRADÍAS ESPECIAL DE SEMANA 
 SANTA. \nMiércoles\, 6 de marzo⋅20:30
ATTACH;FMTTYPE=image/jpeg:https://www.hermandades-de-sevilla.org/wp-conten
 t/uploads/2024/01/boletin_cofradias_logo.png
CATEGORIES:Boletin,Presentaciones
END:VEVENT
END:VCALENDAR