BEGIN:VCALENDAR
VERSION:2.0
PRODID:-//wp-events-plugin.com//7.2.3.1//EN
TZID:Europe/Madrid
X-WR-TIMEZONE:Europe/Madrid
BEGIN:VEVENT
UID:330@hermandades-de-sevilla.org
DTSTART;VALUE=DATE:20260517
DTEND;VALUE=DATE:20260518
DTSTAMP:20260424T095846Z
URL:https://www.hermandades-de-sevilla.org/events/hermandades-sacramentale
 s-que-procesionan-el-dia-17-de-mayo/
SUMMARY:HERMANDADES SACRAMENTALES QUE PROCESIONAN EL DÍA 17 DE MAYO
DESCRIPTION:PROCESIÓN EUCARÍSTICA HDAD. SACRAMENTAL DE SAN GIL\nDomingo\,
  17 de mayo⋅09:45\n\nPROCESIÓN EUCARÍSTICA HDAD. SOLEDAD DE SAN LORENZ
 O\nDomingo\, 17 de mayo⋅10:15\n\n&nbsp\;
ATTACH;FMTTYPE=image/jpeg:https://www.hermandades-de-sevilla.org/wp-conten
 t/uploads/2024/04/procesiones_eucaristicas_SACRAMENTALES-e1712862320797.jp
 g
CATEGORIES:Consejo,Hermandades Sacramentales,Procesiones Hermandades
 Sacramentales
END:VEVENT
END:VCALENDAR