BEGIN:VCALENDAR
VERSION:2.0
PRODID:-//wp-events-plugin.com//7.2.3.1//EN
TZID:Europe/Madrid
X-WR-TIMEZONE:Europe/Madrid
BEGIN:VEVENT
UID:329@hermandades-de-sevilla.org
DTSTART;VALUE=DATE:20260510
DTEND;VALUE=DATE:20260511
DTSTAMP:20260424T095733Z
URL:https://www.hermandades-de-sevilla.org/events/hermandades-sacramentale
 s-que-procesionan-el-dia-10-de-mayo/
SUMMARY:HERMANDADES SACRAMENTALES QUE PROCESIONAN EL DÍA 10 DE MAYO
DESCRIPTION:PROCESIÓN EUCARÍSTICA HDAD. NTRA. SRA. DEL CARMEN DE SAN LEAN
 DRO\nDomingo\, 10 de mayo⋅10:00\n\n&nbsp\;
ATTACH;FMTTYPE=image/jpeg:https://www.hermandades-de-sevilla.org/wp-conten
 t/uploads/2024/04/procesiones_eucaristicas_SACRAMENTALES-e1712862320797.jp
 g
CATEGORIES:Consejo,Hermandades Sacramentales,Procesiones Hermandades
 Sacramentales
END:VEVENT
END:VCALENDAR