BEGIN:VCALENDAR
VERSION:2.0
PRODID:-//wp-events-plugin.com//7.2.3.1//EN
TZID:Europe/Madrid
X-WR-TIMEZONE:Europe/Madrid
BEGIN:VEVENT
UID:333@hermandades-de-sevilla.org
DTSTART;VALUE=DATE:20260509
DTEND;VALUE=DATE:20260510
DTSTAMP:20260424T100810Z
URL:https://www.hermandades-de-sevilla.org/events/hermandades-de-gloria-qu
 e-procesionan-el-dia-9-de-mayo/
SUMMARY:HERMANDADES DE GLORIA QUE PROCESIONAN EL DÍA 9 DE MAYO
DESCRIPTION:SALIDA PROCESIONAL HDAD. DIVINA PASTORA DE SAN ANTONIO\nSábado
 \, 9 de mayo⋅19:00\n\n&nbsp\;
ATTACH;FMTTYPE=image/jpeg:https://www.hermandades-de-sevilla.org/wp-conten
 t/uploads/2026/04/cartel_glorias2026.jpg
CATEGORIES:Consejo,Hermandades de Gloria,Procesiones Hermandades Gloria
END:VEVENT
END:VCALENDAR