BEGIN:VCALENDAR
VERSION:2.0
PRODID:-//wp-events-plugin.com//7.2.3.1//EN
TZID:Europe/Madrid
X-WR-TIMEZONE:Europe/Madrid
BEGIN:VEVENT
UID:332@hermandades-de-sevilla.org
DTSTART;VALUE=DATE:20260503
DTEND;VALUE=DATE:20260504
DTSTAMP:20260424T100654Z
URL:https://www.hermandades-de-sevilla.org/events/hermandades-de-gloria-qu
 e-procesionan-el-dia-3-de-mayo/
SUMMARY:HERMANDADES DE GLORIA QUE PROCESIONAN EL DÍA 3 DE MAYO
DESCRIPTION:SALIDA PROCESIONAL HDAD. SAN JOSÉ OBRERO\nDomingo\, 3 de mayo
 ⋅19:00\n\n&nbsp\;
ATTACH;FMTTYPE=image/jpeg:https://www.hermandades-de-sevilla.org/wp-conten
 t/uploads/2026/04/cartel_glorias2026.jpg
CATEGORIES:Consejo,Hermandades de Gloria,Procesiones Hermandades Gloria
END:VEVENT
END:VCALENDAR