BEGIN:VCALENDAR
VERSION:2.0
PRODID:-//wp-events-plugin.com//7.2.3.1//EN
TZID:Europe/Madrid
X-WR-TIMEZONE:Europe/Madrid
BEGIN:VEVENT
UID:31@hermandades-de-sevilla.org
DTSTART;VALUE=DATE:20230603
DTEND;VALUE=DATE:20230604
DTSTAMP:20230602T094959Z
URL:https://www.hermandades-de-sevilla.org/events/hermandades-de-gloria-qu
 e-procesionan-el-dia-3-de-junio/
SUMMARY:HERMANDADES DE GLORIA QUE PROCESIONAN EL DIA 3 DE JUNIO
DESCRIPTION:[caption id="attachment_13403" align="alignleft" width="128"] P
 arroquia de la Candelaria[/caption]\n\nSALIDA PROCESIONAL HDAD. NTRA. SRA.
  DE LA CANDELARIA DE MADRE DE DIOS\nSábado\, 3 de junio⋅20:00\nitinerar
 io: Candeleta\, Candelón\, Candelilla\, Celestino López Martínez\, Casi
 opea\, Navío Argos\, Galaxia\, Iglesia de la Blanca Paloma\, Gaviota\, Ca
 ndelón\, Candelería\, Candelera\, Candelas\, Candelario\, Candeletas y e
 ntrará en la Parroquia Nuestra Señora de la Candelaria a las 00.00 horas
 .\nEn el siguiente link podrás conocer más detalles de esta procesión l
 etífica: https://www.hermandades-de-sevilla.org/wp-content/uploads/2023/
 06/glorias3junio2023.pdf\n&nbsp\;
ATTACH;FMTTYPE=image/jpeg:https://www.hermandades-de-sevilla.org/wp-conten
 t/uploads/2023/06/glorias3junio2023.png
CATEGORIES:Procesiones Hermandades Gloria
END:VEVENT
END:VCALENDAR