BEGIN:VCALENDAR
VERSION:2.0
PRODID:-//wp-events-plugin.com//7.2.3.1//EN
TZID:Europe/Madrid
X-WR-TIMEZONE:Europe/Madrid
BEGIN:VEVENT
UID:162@hermandades-de-sevilla.org
DTSTART;VALUE=DATE:20240526
DTEND;VALUE=DATE:20240527
DTSTAMP:20240523T155054Z
URL:https://www.hermandades-de-sevilla.org/events/hermandad-de-gloria-que-
 procesiona-el-dia-26-de-mayo/
SUMMARY:HERMANDAD DE GLORIA QUE PROCESIONA EL DÍA 26 DE MAYO
DESCRIPTION:Hermandad de la Hiniesta Gloriosa\n\nTras celebrar un solemne p
 ontifical en la mañana del domingo en la Seo hispalense\, por la tarde\, 
 a partir de las 19:30 horas\, procesionará hasta el Ayuntamiento de Sevil
 la donde quedará expuesta en devoto besamanos en las vísperas del Corpus
  Christi. El recorrido que llevará a cabo para llegar al Consistorio hisp
 alense será la Avenida de la Constitución tras salir por la Puerta de Sa
 n Miguel\, Andén del Ayuntamiento y llegará al Apeadero a las 21:30 hora
 s.\n\nConoce más datos relevantes sobre esta hermandad de Gloria en el si
 guiente enlace: https://www.hermandades-de-sevilla.org/wp-content/uploads/
 2024/05/glorias25-26mayo2024.pdf\n\n&nbsp\;
ATTACH;FMTTYPE=image/jpeg:https://www.hermandades-de-sevilla.org/wp-conten
 t/uploads/2024/05/glorias25-26mayo2024.png
CATEGORIES:Consejo,Hermandades de Gloria,Procesiones Hermandades Gloria
END:VEVENT
END:VCALENDAR