BEGIN:VCALENDAR
VERSION:2.0
PRODID:-//wp-events-plugin.com//7.2.3.1//EN
TZID:Europe/Madrid
X-WR-TIMEZONE:Europe/Madrid
BEGIN:VEVENT
UID:163@hermandades-de-sevilla.org
DTSTART;VALUE=DATE:20240815
DTEND;VALUE=DATE:20240816
DTSTAMP:20240613T150112Z
URL:https://www.hermandades-de-sevilla.org/events/dia-de-la-virgen-de-los-
 reyes-2024/
SUMMARY:DÍA DE LA VIRGEN DE LOS REYES
DESCRIPTION:DÍA DE LA VIRGEN DE LOS REYES
ATTACH;FMTTYPE=image/jpeg:https://www.hermandades-de-sevilla.org/wp-conten
 t/uploads/2023/06/virgen-de-los-reyes.jpg
CATEGORIES:Consejo,Procesiones Hermandades Gloria
END:VEVENT
END:VCALENDAR