BEGIN:VCALENDAR
VERSION:2.0
PRODID:-//wp-events-plugin.com//7.2.3.1//EN
TZID:Europe/Madrid
X-WR-TIMEZONE:Europe/Madrid
BEGIN:VEVENT
UID:165@hermandades-de-sevilla.org
DTSTART;VALUE=DATE:20241119
DTEND;VALUE=DATE:20241120
DTSTAMP:20240613T150345Z
URL:https://www.hermandades-de-sevilla.org/events/convivencia-de-las-hh-de
 l-viernes-santo-4/
SUMMARY:CONVIVENCIA DE LAS HH. DEL VIERNES SANTO
DESCRIPTION:CONVIVENCIA DE LAS HH. DEL VIERNES SANTO. HDAD. DE LA CARRETER
 ÍA\nMartes\, 19 de noviembre de 2024⋅20:30
ATTACH;FMTTYPE=image/jpeg:https://www.hermandades-de-sevilla.org/wp-conten
 t/uploads/2016/05/t_carreteria.jpg
CATEGORIES:Convivencias,Hermandades de Penitencia
END:VEVENT
END:VCALENDAR